BEGIN:VCALENDAR
VERSION:2.0
PRODID:-//hacksw/handcal//NONSGML v1.0//EN
BEGIN:VEVENT
SUMMARY:Entrainement prepa Challenges cat 1
UID:03461c9f-bf8a-4979-854d-62a1a7441366
DTSTART:20260417T130000Z
DTEND:20260417T150000Z
LOCATION:Localisation gymnase des Fleurs de France 03200 Vichy
CATEGORIES:Sportif
STATUS:
URL;VALUE=URI:https://fleursdefrance-gymvichy.sportsregions.fr/evenements/2026/04/17/entrainement-prepa-challenges-cat-1-2440294
END:VEVENT
END:VCALENDAR
