BEGIN:VCALENDAR
VERSION:2.0
PRODID:-//hacksw/handcal//NONSGML v1.0//EN
BEGIN:VEVENT
SUMMARY:entrainement J1
UID:e8c2a7c8-bece-4c7b-90d9-503300c72199
DTSTART:20260420T153000Z
DTEND:20260420T170000Z
LOCATION:Localisation Gymnase des Fleurs de France 03200 VICHY
CATEGORIES:Sportif
STATUS:
URL;VALUE=URI:https://fleursdefrance-gymvichy.sportsregions.fr/evenements/2026/04/20/entrainement-j1-2439196
END:VEVENT
END:VCALENDAR
