BEGIN:VCALENDAR
VERSION:2.0
PRODID:-//hacksw/handcal//NONSGML v1.0//EN
BEGIN:VEVENT
SUMMARY:entrainement J2-J3-A
UID:11ba1cc6-8e6f-4770-8109-b645f5e55e07
DTSTART:20260421T160000Z
DTEND:20260421T183000Z
LOCATION:Localisation Gymnase des Fleurs de France 03200 VICHY
CATEGORIES:Sportif
STATUS:
URL;VALUE=URI:https://fleursdefrance-gymvichy.sportsregions.fr/evenements/2026/04/21/entrainement-j2-j3-a-2439215
END:VEVENT
END:VCALENDAR
