BEGIN:VCALENDAR
VERSION:2.0
PRODID:-//hacksw/handcal//NONSGML v1.0//EN
BEGIN:VEVENT
SUMMARY:entrainement P
UID:feed5e8f-7a5e-44f4-b2f0-d8999774ec41
DTSTART:20260612T151500Z
DTEND:20260612T171500Z
LOCATION:Localisation gymnase de la Mutualite 03200 VICHY
CATEGORIES:Sportif
STATUS:
URL;VALUE=URI:https://fleursdefrance-gymvichy.sportsregions.fr/evenements/2026/06/12/entrainement-p-2439382
END:VEVENT
END:VCALENDAR
